0.250000
0.000000
-0.000000
-0.250000
862300.125000
2026499.875000
