0.250000
0.000000
-0.000000
-0.250000
858300.125000
2038499.875000
