0.250000
0.000000
-0.000000
-0.250000
858300.125000
2016499.875000
