0.250000
0.000000
-0.000000
-0.250000
856300.125000
2011499.875000
