0.250000
0.000000
-0.000000
-0.250000
855300.125000
2021499.875000
