0.250000
0.000000
-0.000000
-0.250000
854300.125000
2018499.875000
