0.250000
0.000000
-0.000000
-0.250000
852300.125000
2015499.875000
