0.250000
0.000000
-0.000000
-0.250000
851300.125000
2036499.875000
