0.250000
0.000000
-0.000000
-0.250000
843300.125000
2006499.875000
