0.250000
0.000000
-0.000000
-0.250000
841300.125000
2005499.875000
