0.250000
0.000000
-0.000000
-0.250000
840300.125000
2040499.875000
