0.250000
0.000000
-0.000000
-0.250000
838300.125000
2002499.875000
