0.250000
0.000000
-0.000000
-0.250000
837300.125000
1996499.875000
