0.250000
0.000000
-0.000000
-0.250000
835300.125000
1995499.875000
