0.250000
0.000000
-0.000000
-0.250000
834300.125000
2040499.875000
