0.250000
0.000000
-0.000000
-0.250000
834300.125000
1998499.875000
