0.250000
0.000000
-0.000000
-0.250000
832300.125000
2041499.875000
