0.250000
0.000000
-0.000000
-0.250000
830300.125000
1993499.875000
