0.250000
0.000000
-0.000000
-0.250000
814300.125000
2042499.875000
