0.250000
0.000000
-0.000000
-0.250000
814300.125000
1991499.875000
