0.250000
0.000000
-0.000000
-0.250000
802300.125000
1984499.875000
