0.250000
0.000000
-0.000000
-0.250000
792300.125000
1982499.875000
