0.250000
0.000000
-0.000000
-0.250000
790300.125000
1987499.875000
