0.250000
0.000000
-0.000000
-0.250000
781300.125000
2046499.875000
