0.250000
0.000000
-0.000000
-0.250000
772300.125000
1981499.875000
