0.250000
0.000000
-0.000000
-0.250000
771300.125000
1986499.875000
