0.250000
0.000000
-0.000000
-0.250000
764300.125000
1979499.875000
