0.250000
0.000000
-0.000000
-0.250000
759300.125000
1976499.875000
