0.250000
0.000000
-0.000000
-0.250000
754300.125000
1984499.875000
