0.250000
0.000000
-0.000000
-0.250000
752300.125000
1989499.875000
