0.250000
0.000000
-0.000000
-0.250000
743300.125000
2046499.875000
