0.250000
0.000000
-0.000000
-0.250000
742300.125000
1991499.875000
