0.250000
0.000000
-0.000000
-0.250000
736300.125000
2044499.875000
