0.250000
0.000000
-0.000000
-0.250000
733300.125000
2047499.875000
