0.250000
0.000000
-0.000000
-0.250000
728300.125000
1987499.875000
