0.250000
0.000000
-0.000000
-0.250000
721300.125000
2045499.875000
