0.250000
0.000000
-0.000000
-0.250000
711300.125000
1983499.875000
