0.250000
0.000000
-0.000000
-0.250000
708300.125000
1978499.875000
