0.250000
0.000000
-0.000000
-0.250000
699300.125000
2048499.875000
