0.250000
0.000000
-0.000000
-0.250000
696300.125000
1980499.875000
