0.250000
0.000000
-0.000000
-0.250000
692300.125000
2043499.875000
