0.250000
0.000000
-0.000000
-0.250000
690300.125000
2008499.875000
