0.250000
0.000000
-0.000000
-0.250000
690300.125000
1983499.875000
