0.250000
0.000000
-0.000000
-0.250000
689300.125000
2001499.875000
