0.250000
0.000000
-0.000000
-0.250000
688300.125000
1993499.875000
