0.250000
0.000000
-0.000000
-0.250000
686300.125000
2003499.875000
