0.250000
0.000000
-0.000000
-0.250000
683300.125000
2002499.875000
