0.250000
0.000000
-0.000000
-0.250000
678300.125000
1985499.875000
