0.250000
0.000000
-0.000000
-0.250000
677300.125000
1990499.875000
