0.250000
0.000000
-0.000000
-0.250000
676300.125000
1994499.875000
